BEGIN:VCALENDAR
METHOD:PUBLISH
VERSION:2.0
PRODID:-//Eventilla iCal Syndication//NONSGML Liana//EN
BEGIN:VEVENT
UID:LPaya@eventilla.com
DTSTAMP:20260210T130000Z
DTSTART:20260210T130000Z
DTEND:20260210T150000Z
SUMMARY:Super Bowl LX Highlights & Commercials
DESCRIPTION:Tervetuloa mukaan BOLT ARENALLE kuulemaan viiltävät analyysit niin itse ottelun ratkaisuhetkistä kuin sen yhteydessä esitetyistä mainoksista!\nMarkkinnoinnin asiantuntijaraadissa mukana\n\nEka Ruola\, luova johtaja\, Nitro\nRiku Vassinen\, toimitusjohtaja\, hasan & partners\nJanne Waltonen\, Global Marketing\, Supercell\nRiikka-Maria Lemminki\, toimitusjohtaja\, Marketing Finland\n\nLisäksi mukana Nelonen Median urheilupäällikkö Tuomas Saarela ja Suomi-Amerikka yhdistysten liiton puheenjohtaja Simon Elo sekä Suomen Amerikkalaisen Jalkapallon Liiton ja Hall of Famen edustajat. \nTilaisuus on maksuton.\nTapahtuma järjestetään yhteistyössä Suomen Amerikkalaisen Jalkapallon Liiton\, Hall of Famen\, Channel Factoryn\, Suomi-Amerikka Yhdistysten Liiton\, Sponsorointi & Tapahtumat ry:n ja Marketing Finlandin kanssa. \n \nOhjelma:\nPRE GAME\n\nHarri Kaasinen ja Ari Tuuli\, Hall of Fame\nMarketing Finland\, SPOT & SAJL ry\n\nUSA250-JUHLAVUOSI\n\nSimon Elo\, puheenjohtaja\, Suomi-Amerikka Yhdistysten Liitto\n\nSUPER BOWL LX -OTTELUANALYYSI\n\nPetrus Penkki\, Hall of Fame\n\nSUPER BOWL LX -MARKKINOINTIPANEELI: "Mikä puhututti tänä vuonna? Missä oli rohkeus?"\n\nEka Ruola\, luova johtaja\, Nitro\nRiku Vassinen\, toimitusjohtaja\, hasan & partners\nJanne Waltonen\, Global Marketing\, Supercell\nRiikka-Maria Lemminki\, toimitusjohtaja\, Marketing Finland\n\nPOST GAME\n\nTuomas Saarela\, urheilupäällikkö\, Nelonen Media\nMika Heinonen\, toiminnanjohtaja\, SAJL ry\n
LOCATION:Bolt Arena\, Urheilukatu 5\, 00250\, Helsinki\, Suomi
URL:http://events.marketingfinland.fi/superbowl
END:VEVENT
END:VCALENDAR
