BEGIN:VCALENDAR
METHOD:PUBLISH
VERSION:2.0
PRODID:-//Eventilla iCal Syndication//NONSGML Liana//EN
BEGIN:VEVENT
UID:zWkQB@eventilla.com
DTSTAMP:20250611T070000Z
DTSTART:20250611T070000Z
DTEND:20250611T080000Z
SUMMARY:Näin Finnish Comms Awards uudistuu -webinaari
DESCRIPTION:Webinaarissa käymme läpi Finnish Comms Awardsin keskeisimmät uudistukset sekä päivitetyt kategoriat. Tule kuulemaan\, mitä kaikkia töitä voit kilpailuun ilmoittaa\, miten kilpailutyöt kannattaa uudistettuihin kategorioihin rakentaa ja mitä missäkin vaiheessa tapahtuu. Webinaarissa on myös aikaa kysymyksille. \nVarmista etumatkasi menestykseen Finnish Comms Awards -kilpailussa ja ilmoittadu alta mukaan!\nMilloin? 11.6.2025 klo 10.00-11.00\nMissä? @Zoom\nKenelle? Kaikille ketkä tähtäävät menestykseen Finnish Comms Awards -kilpailussa
LOCATION:Zoom
URL:http://events.marketingfinland.fi/event/zWkQB
END:VEVENT
END:VCALENDAR
